BEGIN:VCALENDAR
VERSION:2.0
PRODID:-//wp-events-plugin.com//7.2.3.1//EN
TZID:Europe/Berlin
X-WR-TIMEZONE:Europe/Berlin
BEGIN:VEVENT
UID:23@wildniscamp-eisenach.de
DTSTART;TZID=Europe/Berlin:20260520T180000
DTEND;TZID=Europe/Berlin:20260520T200000
DTSTAMP:20260417T134143Z
URL:https://wildniscamp-eisenach.de/veranstaltungen/sunset-garden-jazz-tri
 o-trillhaase-boettger-degenhard/
SUMMARY:Sunset Garden: Jazz-Trio Trillhaase-Böttger-Degenhard
DESCRIPTION:Nach dem Kindertheater mit Linda Trillhaase laden wir euch zum 
 gemeinsamen Chillen mit jazzigen Tages-Ausklang ein.\n\nErstmals spielen d
 ie Eisenacher Gitarristen Marco Böttger und Carsten Degenhard gemeinsam m
 it der Allround-Künstlerin Linda Trillhaase\, die für uns ihre Jazz-Geig
 e auspackt. Wir freuen uns auf den klangvollen Swing eines virtuosen Strin
 g-Trios.\n\nDas Publikum ist herzlich zum Foodsharing (gemeinsames Picknic
 k) eingeladen. Wer mag\, bringt etwas zu Essen mit\, ein Grill wird auch a
 ngeworfen. Sitzgelegenheiten und eine Getränke-Bar sind vorhanden.\n\nGer
 n können aber auch eigene Decken\, Campingstühle und Getränke mitgebrac
 ht werden.\n\nEintritt wie immer auf Spendenbasis\, empfohlener Betrag 10 
 Euro.
ATTACH;FMTTYPE=image/jpeg:https://wildniscamp-eisenach.de/wp-content/uploa
 ds/2025/07/Sunset-Waldleute-scaled.jpg
LOCATION:Das Eichhörnchen - Wildniscamp Eisenach\, Dr.-Moritz-Mitzenheim-S
 traße\, Eisenach\, Thüringen\, 99817\, Deutschland
X-APPLE-STRUCTURED-LOCATION;VALUE=URI;X-ADDRESS=Dr.-Moritz-Mitzenheim-Stra
 ße\, Eisenach\, Thüringen\, 99817\, Deutschland;X-APPLE-RADIUS=100;X-TIT
 LE=Das Eichhörnchen - Wildniscamp Eisenach:geo:0,0
END:VEVENT
BEGIN:VTIMEZONE
TZID:Europe/Berlin
X-LIC-LOCATION:Europe/Berlin
BEGIN:DAYLIGHT
DTSTART:20260329T030000
TZOFFSETFROM:+0100
TZOFFSETTO:+0200
TZNAME:CEST
END:DAYLIGHT
END:VTIMEZONE
END:VCALENDAR